BEGIN:VCALENDAR
VERSION:2.0
PRODID:-//ALIA Multicultural - ECPv6.15.20//NONSGML v1.0//EN
CALSCALE:GREGORIAN
METHOD:PUBLISH
X-ORIGINAL-URL:https://multicultural.alia.org.au
X-WR-CALDESC:Events for ALIA Multicultural
REFRESH-INTERVAL;VALUE=DURATION:PT1H
X-Robots-Tag:noindex
X-PUBLISHED-TTL:PT1H
BEGIN:VTIMEZONE
TZID:Australia/Sydney
BEGIN:STANDARD
TZOFFSETFROM:+1100
TZOFFSETTO:+1000
TZNAME:AEST
DTSTART:20240406T160000
END:STANDARD
BEGIN:DAYLIGHT
TZOFFSETFROM:+1000
TZOFFSETTO:+1100
TZNAME:AEDT
DTSTART:20241005T160000
END:DAYLIGHT
BEGIN:STANDARD
TZOFFSETFROM:+1100
TZOFFSETTO:+1000
TZNAME:AEST
DTSTART:20250405T160000
END:STANDARD
BEGIN:DAYLIGHT
TZOFFSETFROM:+1000
TZOFFSETTO:+1100
TZNAME:AEDT
DTSTART:20251004T160000
END:DAYLIGHT
BEGIN:STANDARD
TZOFFSETFROM:+1100
TZOFFSETTO:+1000
TZNAME:AEST
DTSTART:20260404T160000
END:STANDARD
BEGIN:DAYLIGHT
TZOFFSETFROM:+1000
TZOFFSETTO:+1100
TZNAME:AEDT
DTSTART:20261003T160000
END:DAYLIGHT
END:VTIMEZONE
BEGIN:VEVENT
DTSTART;TZID=Australia/Sydney:20251128T080000
DTEND;TZID=Australia/Sydney:20251128T170000
DTSTAMP:20260424T072708
CREATED:20240916T040047Z
LAST-MODIFIED:20250822T032042Z
UID:1715-1764316800-1764349200@multicultural.alia.org.au
SUMMARY:ALIA Multicultural Committee meeting November
DESCRIPTION:
URL:https://multicultural.alia.org.au/event/alia-multicultural-committee-meeting-november-2025/
CATEGORIES:ALIA Multicultural Committee meeting
END:VEVENT
END:VCALENDAR